Workbook

Sheet ENERO 
A3: NUMERO DE ATENDIDOS Y ATENCIONES AL ESTABLECIMIENTO POR SEXO
A5: Periodo: Enero - 2026
A6: Diresa/Red/M.Red/EE.SS: AREQUIPA/AREQUIPA CAYLLOMA/YANAHUARA/TODOS LOS EE.SS
A9: 1. Según Etapa de Vida:
A11: GRUPO ETAREO | B11: ATENDIDOS | E11: ATENCIONES
B12: TOTAL | C12: F | D12: M | E12: TOTAL | F12: F | G12: M
A14: TOTAL GENERAL | B14: 4258 | C14: 2819 | D14: 1439 | E14: 8408 | F14: 5737 | G14: 2671
A15: < 01 mes | B15: 16 | C15: 6 | D15: 10 | E15: 27 | F15: 11 | G15: 16
A16: 01 a 11 meses | B16: 177 | C16: 91 | D16: 86 | E16: 325 | F16: 170 | G16: 155
A17: 01 a 04 años | B17: 266 | C17: 135 | D17: 131 | E17: 455 | F17: 245 | G17: 210
A18: 05 a 11 años | B18: 390 | C18: 169 | D18: 221 | E18: 526 | F18: 212 | G18: 314
A19: 12 a 17 años | B19: 201 | C19: 120 | D19: 81 | E19: 429 | F19: 250 | G19: 179
A20: 18 a 29 años | B20: 963 | C20: 727 | D20: 236 | E20: 1880 | F20: 1454 | G20: 426
A21: 30 a 59 años | B21: 1662 | C21: 1250 | D21: 412 | E21: 3548 | F21: 2761 | G21: 787
A22: 60 años a más | B22: 583 | C22: 321 | D22: 262 | E22: 1218 | F22: 634 | G22: 584
A25: NUMERO DE ATENDIDOS Y ATENCIONES AL ESTABLECIMIENTO POR SEXO
A27: Periodo: Enero - 2026
A28: Diresa/Red/M.Red/EE.SS: AREQUIPA/AREQUIPA CAYLLOMA/YANAHUARA/I-3 - 000001233 - CENTRO DE SALUD YANAHUARA
A31: 1. Según Etapa de Vida:
A33: GRUPO ETAREO | B33: ATENDIDOS | E33: ATENCIONES
B34: TOTAL | C34: F | D34: M | E34: TOTAL | F34: F | G34: M
A36: TOTAL GENERAL | B36: 2045 | C36: 1386 | D36: 659 | E36: 4953 | F36: 3431 | G36: 1522
A37: < 01 mes | B37: 9 | C37: 4 | D37: 5 | E37: 10 | F37: 4 | G37: 6
A38: 01 a 11 meses | B38: 71 | C38: 39 | D38: 32 | E38: 144 | F38: 81 | G38: 63
A39: 01 a 04 años | B39: 131 | C39: 70 | D39: 61 | E39: 233 | F39: 137 | G39: 96
A40: 05 a 11 años | B40: 77 | C40: 33 | D40: 44 | E40: 131 | F40: 48 | G40: 83
A41: 12 a 17 años | B41: 79 | C41: 45 | D41: 34 | E41: 222 | F41: 117 | G41: 105
A42: 18 a 29 años | B42: 547 | C42: 402 | D42: 145 | E42: 1243 | F42: 941 | G42: 302
A43: 30 a 59 años | B43: 801 | C43: 599 | D43: 202 | E43: 2127 | F43: 1650 | G43: 477
A44: 60 años a más | B44: 330 | C44: 194 | D44: 136 | E44: 843 | F44: 453 | G44: 390
A47: NUMERO DE ATENDIDOS Y ATENCIONES AL ESTABLECIMIENTO POR SEXO
A49: Periodo: Enero - 2026
A50: Diresa/Red/M.Red/EE.SS: AREQUIPA/AREQUIPA CAYLLOMA/YANAHUARA/I-2 - 000001283 - PUESTO DE SALUD PAMPA DE CAMARONES
A53: 1. Según Etapa de Vida:
A55: GRUPO ETAREO | B55: ATENDIDOS | E55: ATENCIONES
B56: TOTAL | C56: F | D56: M | E56: TOTAL | F56: F | G56: M
A58: TOTAL GENERAL | B58: 1190 | C58: 808 | D58: 382 | E58: 1632 | F58: 1113 | G58: 519
A59: < 01 mes | B59: 1 | C59: 0 | D59: 1 | E59: 2 | F59: 1 | G59: 1
A60: 01 a 11 meses | B60: 63 | C60: 28 | D60: 35 | E60: 105 | F60: 49 | G60: 56
A61: 01 a 04 años | B61: 81 | C61: 39 | D61: 42 | E61: 121 | F61: 62 | G61: 59
A62: 05 a 11 años | B62: 140 | C62: 62 | D62: 78 | E62: 165 | F62: 73 | G62: 92
A63: 12 a 17 años | B63: 67 | C63: 41 | D63: 26 | E63: 98 | F63: 61 | G63: 37
A64: 18 a 29 años | B64: 245 | C64: 198 | D64: 47 | E64: 319 | F64: 259 | G64: 60
A65: 30 a 59 años | B65: 453 | C65: 360 | D65: 93 | E65: 634 | F65: 501 | G65: 133
A66: 60 años a más | B66: 140 | C66: 80 | D66: 60 | E66: 188 | F66: 107 | G66: 81
A69: NUMERO DE ATENDIDOS Y ATENCIONES AL ESTABLECIMIENTO POR SEXO
A71: Periodo: Enero - 2026
A72: Diresa/Red/M.Red/EE.SS: AREQUIPA/AREQUIPA CAYLLOMA/YANAHUARA/I-2 - 000001282 - PUESTO DE SALUD SACHACA
A75: 1. Según Etapa de Vida:
A77: GRUPO ETAREO | B77: ATENDIDOS | E77: ATENCIONES
B78: TOTAL | C78: F | D78: M | E78: TOTAL | F78: F | G78: M
A80: TOTAL GENERAL | B80: 1023 | C80: 625 | D80: 398 | E80: 1823 | F80: 1193 | G80: 630
A81: < 01 mes | B81: 6 | C81: 2 | D81: 4 | E81: 15 | F81: 6 | G81: 9
A82: 01 a 11 meses | B82: 43 | C82: 24 | D82: 19 | E82: 76 | F82: 40 | G82: 36
A83: 01 a 04 años | B83: 54 | C83: 26 | D83: 28 | E83: 101 | F83: 46 | G83: 55
A84: 05 a 11 años | B84: 173 | C84: 74 | D84: 99 | E84: 230 | F84: 91 | G84: 139
A85: 12 a 17 años | B85: 55 | C85: 34 | D85: 21 | E85: 109 | F85: 72 | G85: 37
A86: 18 a 29 años | B86: 171 | C86: 127 | D86: 44 | E86: 318 | F86: 254 | G86: 64
A87: 30 a 59 años | B87: 408 | C87: 291 | D87: 117 | E87: 787 | F87: 610 | G87: 177
A88: 60 años a más | B88: 113 | C88: 47 | D88: 66 | E88: 187 | F88: 74 | G88: 113

Sheet FEBRERO
A3: NUMERO DE ATENDIDOS Y ATENCIONES AL ESTABLECIMIENTO POR SEXO
A5: Periodo: Febrero - 2026
A6: Diresa/Red/M.Red/EE.SS: AREQUIPA/AREQUIPA CAYLLOMA/YANAHUARA/TODOS LOS EE.SS
A9: 1. Según Etapa de Vida:
A11: GRUPO ETAREO | B11: ATENDIDOS | E11: ATENCIONES
B12: TOTAL | C12: F | D12: M | E12: TOTAL | F12: F | G12: M
A14: TOTAL GENERAL | B14: 2438 | C14: 1549 | D14: 889 | E14: 7992 | F14: 5305 | G14: 2687
A15: < 01 mes | B15: 27 | C15: 14 | D15: 13 | E15: 60 | F15: 29 | G15: 31
A16: 01 a 11 meses | B16: 33 | C16: 15 | D16: 18 | E16: 326 | F16: 162 | G16: 164
A17: 01 a 04 años | B17: 179 | C17: 89 | D17: 90 | E17: 506 | F17: 243 | G17: 263
A18: 05 a 11 años | B18: 152 | C18: 74 | D18: 78 | E18: 424 | F18: 189 | G18: 235
A19: 12 a 17 años | B19: 121 | C19: 65 | D19: 56 | E19: 428 | F19: 243 | G19: 185
A20: 18 a 29 años | B20: 506 | C20: 351 | D20: 155 | E20: 1552 | F20: 1130 | G20: 422
A21: 30 a 59 años | B21: 1047 | C21: 732 | D21: 315 | E21: 3516 | F21: 2712 | G21: 804
A22: 60 años a más | B22: 373 | C22: 209 | D22: 164 | E22: 1180 | F22: 597 | G22: 583
A25: NUMERO DE ATENDIDOS Y ATENCIONES AL ESTABLECIMIENTO POR SEXO
A27: Periodo: Febrero - 2026
A28: Diresa/Red/M.Red/EE.SS: AREQUIPA/AREQUIPA CAYLLOMA/YANAHUARA/I-3 - 000001233 - CENTRO DE SALUD YANAHUARA
A31: 1. Según Etapa de Vida:
A33: GRUPO ETAREO | B33: ATENDIDOS | E33: ATENCIONES
B34: TOTAL | C34: F | D34: M | E34: TOTAL | F34: F | G34: M
A36: TOTAL GENERAL | B36: 1223 | C36: 796 | D36: 427 | E36: 4548 | F36: 3084 | G36: 1464
A37: < 01 mes | B37: 17 | C37: 11 | D37: 6 | E37: 26 | F37: 15 | G37: 11
A38: 01 a 11 meses | B38: 13 | C38: 6 | D38: 7 | E38: 121 | F38: 67 | G38: 54
A39: 01 a 04 años | B39: 69 | C39: 40 | D39: 29 | E39: 157 | F39: 89 | G39: 68
A40: 05 a 11 años | B40: 67 | C40: 32 | D40: 35 | E40: 184 | F40: 98 | G40: 86
A41: 12 a 17 años | B41: 41 | C41: 24 | D41: 17 | E41: 215 | F41: 113 | G41: 102
A42: 18 a 29 años | B42: 266 | C42: 181 | D42: 85 | E42: 871 | F42: 592 | G42: 279
A43: 30 a 59 años | B43: 539 | C43: 380 | D43: 159 | E43: 2244 | F43: 1721 | G43: 523
A44: 60 años a más | B44: 211 | C44: 122 | D44: 89 | E44: 730 | F44: 389 | G44: 341
A47: NUMERO DE ATENDIDOS Y ATENCIONES AL ESTABLECIMIENTO POR SEXO
A49: Periodo: Febrero - 2026
A50: Diresa/Red/M.Red/EE.SS: AREQUIPA/AREQUIPA CAYLLOMA/YANAHUARA/I-2 - 000001283 - PUESTO DE SALUD PAMPA DE CAMARONES
A53: 1. Según Etapa de Vida:
A55: GRUPO ETAREO | B55: ATENDIDOS | E55: ATENCIONES
B56: TOTAL | C56: F | D56: M | E56: TOTAL | F56: F | G56: M
A58: TOTAL GENERAL | B58: 535 | C58: 353 | D58: 182 | E58: 1405 | F58: 947 | G58: 458
A59: < 01 mes | B59: 5 | C59: 2 | D59: 3 | E59: 24 | F59: 13 | G59: 11
A60: 01 a 11 meses | B60: 7 | C60: 4 | D60: 3 | E60: 77 | F60: 36 | G60: 41
A61: 01 a 04 años | B61: 44 | C61: 15 | D61: 29 | E61: 123 | F61: 53 | G61: 70
A62: 05 a 11 años | B62: 40 | C62: 22 | D62: 18 | E62: 73 | F62: 38 | G62: 35
A63: 12 a 17 años | B63: 44 | C63: 24 | D63: 20 | E63: 96 | F63: 61 | G63: 35
A64: 18 a 29 años | B64: 114 | C64: 88 | D64: 26 | E64: 315 | F64: 272 | G64: 43
A65: 30 a 59 años | B65: 211 | C65: 161 | D65: 50 | E65: 498 | F65: 389 | G65: 109
A66: 60 años a más | B66: 70 | C66: 37 | D66: 33 | E66: 199 | F66: 85 | G66: 114
A69: NUMERO DE ATENDIDOS Y ATENCIONES AL ESTABLECIMIENTO POR SEXO
A71: Periodo: Febrero - 2026
A72: Diresa/Red/M.Red/EE.SS: AREQUIPA/AREQUIPA CAYLLOMA/YANAHUARA/I-2 - 000001282 - PUESTO DE SALUD SACHACA
A75: 1. Según Etapa de Vida:
A77: GRUPO ETAREO | B77: ATENDIDOS | E77: ATENCIONES
B78: TOTAL | C78: F | D78: M | E78: TOTAL | F78: F | G78: M
A80: TOTAL GENERAL | B80: 681 | C80: 400 | D80: 281 | E80: 2039 | F80: 1274 | G80: 765
A81: < 01 mes | B81: 5 | C81: 1 | D81: 4 | E81: 10 | F81: 1 | G81: 9
A82: 01 a 11 meses | B82: 13 | C82: 5 | D82: 8 | E82: 128 | F82: 59 | G82: 69
A83: 01 a 04 años | B83: 67 | C83: 34 | D83: 33 | E83: 226 | F83: 101 | G83: 125
A84: 05 a 11 años | B84: 45 | C84: 20 | D84: 25 | E84: 167 | F84: 53 | G84: 114
A85: 12 a 17 años | B85: 36 | C85: 17 | D85: 19 | E85: 117 | F85: 69 | G85: 48
A86: 18 a 29 años | B86: 126 | C86: 82 | D86: 44 | E86: 366 | F86: 266 | G86: 100
A87: 30 a 59 años | B87: 297 | C87: 191 | D87: 106 | E87: 774 | F87: 602 | G87: 172
A88: 60 años a más | B88: 92 | C88: 50 | D88: 42 | E88: 251 | F88: 123 | G88: 128

Sheet MARZO
A3: NUMERO DE ATENDIDOS Y ATENCIONES AL ESTABLECIMIENTO POR SEXO
A5: Periodo: Marzo - 2026
A6: Diresa/Red/M.Red/EE.SS: AREQUIPA/AREQUIPA CAYLLOMA/YANAHUARA/TODOS LOS EE.SS
A9: 1. Según Etapa de Vida:
A11: GRUPO ETAREO | B11: ATENDIDOS | E11: ATENCIONES
B12: TOTAL | C12: F | D12: M | E12: TOTAL | F12: F | G12: M
A14: TOTAL GENERAL | B14: 2628 | C14: 1605 | D14: 1023 | E14: 10245 | F14: 6728 | G14: 3517
A15: < 01 mes | B15: 40 | C15: 14 | D15: 26 | E15: 72 | F15: 16 | G15: 56
A16: 01 a 11 meses | B16: 17 | C16: 9 | D16: 8 | E16: 313 | F16: 153 | G16: 160
A17: 01 a 04 años | B17: 201 | C17: 94 | D17: 107 | E17: 627 | F17: 286 | G17: 341
A18: 05 a 11 años | B18: 128 | C18: 48 | D18: 80 | E18: 430 | F18: 164 | G18: 266
A19: 12 a 17 años | B19: 133 | C19: 43 | D19: 90 | E19: 486 | F19: 231 | G19: 255
A20: 18 a 29 años | B20: 677 | C20: 451 | D20: 226 | E20: 2337 | F20: 1759 | G20: 578
A21: 30 a 59 años | B21: 1094 | C21: 731 | D21: 363 | E21: 4319 | F21: 3203 | G21: 1116
A22: 60 años a más | B22: 338 | C22: 215 | D22: 123 | E22: 1661 | F22: 916 | G22: 745
A24: NUMERO DE ATENDIDOS Y ATENCIONES AL ESTABLECIMIENTO POR SEXO
A26: Periodo: Marzo - 2026
A27: Diresa/Red/M.Red/EE.SS: AREQUIPA/AREQUIPA CAYLLOMA/YANAHUARA/I-3 - 000001233 - CENTRO DE SALUD YANAHUARA
A30: 1. Según Etapa de Vida:
A32: GRUPO ETAREO | B32: ATENDIDOS | E32: ATENCIONES
B33: TOTAL | C33: F | D33: M | E33: TOTAL | F33: F | G33: M
A35: TOTAL GENERAL | B35: 1445 | C35: 866 | D35: 579 | E35: 5974 | F35: 3789 | G35: 2185
A36: < 01 mes | B36: 34 | C36: 13 | D36: 21 | E36: 43 | F36: 15 | G36: 28
A37: 01 a 11 meses | B37: 11 | C37: 5 | D37: 6 | E37: 101 | F37: 54 | G37: 47
A38: 01 a 04 años | B38: 67 | C38: 34 | D38: 33 | E38: 222 | F38: 98 | G38: 124
A39: 05 a 11 años | B39: 57 | C39: 16 | D39: 41 | E39: 179 | F39: 54 | G39: 125
A40: 12 a 17 años | B40: 71 | C40: 16 | D40: 55 | E40: 259 | F40: 93 | G40: 166
A41: 18 a 29 años | B41: 409 | C41: 272 | D41: 137 | E41: 1418 | F41: 1041 | G41: 377
A42: 30 a 59 años | B42: 597 | C42: 385 | D42: 212 | E42: 2664 | F42: 1866 | G42: 798
A43: 60 años a más | B43: 199 | C43: 125 | D43: 74 | E43: 1088 | F43: 568 | G43: 520
A45: NUMERO DE ATENDIDOS Y ATENCIONES AL ESTABLECIMIENTO POR SEXO
A47: Periodo: Marzo - 2026
A48: Diresa/Red/M.Red/EE.SS: AREQUIPA/AREQUIPA CAYLLOMA/YANAHUARA/I-2 - 000001283 - PUESTO DE SALUD PAMPA DE CAMARONES
A51: 1. Según Etapa de Vida:
A53: GRUPO ETAREO | B53: ATENDIDOS | E53: ATENCIONES
B54: TOTAL | C54: F | D54: M | E54: TOTAL | F54: F | G54: M
A56: TOTAL GENERAL | B56: 545 | C56: 357 | D56: 188 | E56: 1820 | F56: 1262 | G56: 558
A57: < 01 mes | B57: 1 | C57: 0 | D57: 1 | E57: 15 | F57: 0 | G57: 15
A58: 01 a 11 meses | B58: 4 | C58: 2 | D58: 2 | E58: 99 | F58: 47 | G58: 52
A59: 01 a 04 años | B59: 40 | C59: 18 | D59: 22 | E59: 145 | F59: 68 | G59: 77
A60: 05 a 11 años | B60: 33 | C60: 10 | D60: 23 | E60: 89 | F60: 36 | G60: 53
A61: 12 a 17 años | B61: 30 | C61: 15 | D61: 15 | E61: 96 | F61: 57 | G61: 39
A62: 18 a 29 años | B62: 143 | C62: 97 | D62: 46 | E62: 443 | F62: 355 | G62: 88
A63: 30 a 59 años | B63: 225 | C63: 167 | D63: 58 | E63: 676 | F63: 535 | G63: 141
A64: 60 años a más | B64: 69 | C64: 48 | D64: 21 | E64: 257 | F64: 164 | G64: 93
A67: NUMERO DE ATENDIDOS Y ATENCIONES AL ESTABLECIMIENTO POR SEXO
A69: Periodo: Marzo - 2026
A70: Diresa/Red/M.Red/EE.SS: AREQUIPA/AREQUIPA CAYLLOMA/YANAHUARA/I-2 - 000001282 - PUESTO DE SALUD SACHACA
A73: 1. Según Etapa de Vida:
A75: GRUPO ETAREO | B75: ATENDIDOS | E75: ATENCIONES
B76: TOTAL | C76: F | D76: M | E76: TOTAL | F76: F | G76: M
A78: TOTAL GENERAL | B78: 638 | C78: 382 | D78: 256 | E78: 2451 | F78: 1677 | G78: 774
A79: < 01 mes | B79: 5 | C79: 1 | D79: 4 | E79: 14 | F79: 1 | G79: 13
A80: 01 a 11 meses | B80: 2 | C80: 2 | D80: 0 | E80: 113 | F80: 52 | G80: 61
A81: 01 a 04 años | B81: 94 | C81: 42 | D81: 52 | E81: 260 | F81: 120 | G81: 140
A82: 05 a 11 años | B82: 38 | C82: 22 | D82: 16 | E82: 162 | F82: 74 | G82: 88
A83: 12 a 17 años | B83: 32 | C83: 12 | D83: 20 | E83: 131 | F83: 81 | G83: 50
A84: 18 a 29 años | B84: 125 | C84: 82 | D84: 43 | E84: 476 | F84: 363 | G84: 113
A85: 30 a 59 años | B85: 272 | C85: 179 | D85: 93 | E85: 979 | F85: 802 | G85: 177
A86: 60 años a más | B86: 70 | C86: 42 | D86: 28 | E86: 316 | F86: 184 | G86: 132

Sheet Hoja2
A3: NUMERO DE ATENDIDOS Y ATENCIONES AL ESTABLECIMIENTO POR SEXO
A5: Periodo: Marzo - 2026
A6: Diresa/Red/M.Red/EE.SS: AREQUIPA/AREQUIPA CAYLLOMA/YANAHUARA/TODOS LOS EE.SS
A9: 1. Según Etapa de Vida:
A11: GRUPO ETAREO | B11: ATENDIDOS | E11: ATENCIONES
B12: TOTAL | C12: F | D12: M | E12: TOTAL | F12: F | G12: M
A14: TOTAL GENERAL | B14: ='ENERO '!B14+FEBRERO!B14+MARZO!B14 -> 9324 | C14: ='ENERO '!C14+FEBRERO!C14+MARZO!C14 -> 5973 | D14: ='ENERO '!D14+FEBRERO!D14+MARZO!D14 -> 3351 | E14: ='ENERO '!E14+FEBRERO!E14+MARZO!E14 -> 26645 | F14: ='ENERO '!F14+FEBRERO!F14+MARZO!F14 -> 17770 | G14: ='ENERO '!G14+FEBRERO!G14+MARZO!G14 -> 8875
A15: < 01 mes | B15: ='ENERO '!B15+FEBRERO!B15+MARZO!B15 -> 83 | C15: ='ENERO '!C15+FEBRERO!C15+MARZO!C15 -> 34 | D15: ='ENERO '!D15+FEBRERO!D15+MARZO!D15 -> 49 | E15: ='ENERO '!E15+FEBRERO!E15+MARZO!E15 -> 159 | F15: ='ENERO '!F15+FEBRERO!F15+MARZO!F15 -> 56 | G15: ='ENERO '!G15+FEBRERO!G15+MARZO!G15 -> 103
A16: 01 a 11 meses | B16: ='ENERO '!B16+FEBRERO!B16+MARZO!B16 -> 227 | C16: ='ENERO '!C16+FEBRERO!C16+MARZO!C16 -> 115 | D16: ='ENERO '!D16+FEBRERO!D16+MARZO!D16 -> 112 | E16: ='ENERO '!E16+FEBRERO!E16+MARZO!E16 -> 964 | F16: ='ENERO '!F16+FEBRERO!F16+MARZO!F16 -> 485 | G16: ='ENERO '!G16+FEBRERO!G16+MARZO!G16 -> 479
A17: 01 a 04 años | B17: ='ENERO '!B17+FEBRERO!B17+MARZO!B17 -> 646 | C17: ='ENERO '!C17+FEBRERO!C17+MARZO!C17 -> 318 | D17: ='ENERO '!D17+FEBRERO!D17+MARZO!D17 -> 328 | E17: ='ENERO '!E17+FEBRERO!E17+MARZO!E17 -> 1588 | F17: ='ENERO '!F17+FEBRERO!F17+MARZO!F17 -> 774 | G17: ='ENERO '!G17+FEBRERO!G17+MARZO!G17 -> 814
A18: 05 a 11 años | B18: ='ENERO '!B18+FEBRERO!B18+MARZO!B18 -> 670 | C18: ='ENERO '!C18+FEBRERO!C18+MARZO!C18 -> 291 | D18: ='ENERO '!D18+FEBRERO!D18+MARZO!D18 -> 379 | E18: ='ENERO '!E18+FEBRERO!E18+MARZO!E18 -> 1380 | F18: ='ENERO '!F18+FEBRERO!F18+MARZO!F18 -> 565 | G18: ='ENERO '!G18+FEBRERO!G18+MARZO!G18 -> 815
A19: 12 a 17 años | B19: ='ENERO '!B19+FEBRERO!B19+MARZO!B19 -> 455 | C19: ='ENERO '!C19+FEBRERO!C19+MARZO!C19 -> 228 | D19: ='ENERO '!D19+FEBRERO!D19+MARZO!D19 -> 227 | E19: ='ENERO '!E19+FEBRERO!E19+MARZO!E19 -> 1343 | F19: ='ENERO '!F19+FEBRERO!F19+MARZO!F19 -> 724 | G19: ='ENERO '!G19+FEBRERO!G19+MARZO!G19 -> 619
A20: 18 a 29 años | B20: ='ENERO '!B20+FEBRERO!B20+MARZO!B20 -> 2146 | C20: ='ENERO '!C20+FEBRERO!C20+MARZO!C20 -> 1529 | D20: ='ENERO '!D20+FEBRERO!D20+MARZO!D20 -> 617 | E20: ='ENERO '!E20+FEBRERO!E20+MARZO!E20 -> 5769 | F20: ='ENERO '!F20+FEBRERO!F20+MARZO!F20 -> 4343 | G20: ='ENERO '!G20+FEBRERO!G20+MARZO!G20 -> 1426
A21: 30 a 59 años | B21: ='ENERO '!B21+FEBRERO!B21+MARZO!B21 -> 3803 | C21: ='ENERO '!C21+FEBRERO!C21+MARZO!C21 -> 2713 | D21: ='ENERO '!D21+FEBRERO!D21+MARZO!D21 -> 1090 | E21: ='ENERO '!E21+FEBRERO!E21+MARZO!E21 -> 11383 | F21: ='ENERO '!F21+FEBRERO!F21+MARZO!F21 -> 8676 | G21: ='ENERO '!G21+FEBRERO!G21+MARZO!G21 -> 2707
A22: 60 años a más | B22: ='ENERO '!B22+FEBRERO!B22+MARZO!B22 -> 1294 | C22: ='ENERO '!C22+FEBRERO!C22+MARZO!C22 -> 745 | D22: ='ENERO '!D22+FEBRERO!D22+MARZO!D22 -> 549 | E22: ='ENERO '!E22+FEBRERO!E22+MARZO!E22 -> 4059 | F22: ='ENERO '!F22+FEBRERO!F22+MARZO!F22 -> 2147 | G22: ='ENERO '!G22+FEBRERO!G22+MARZO!G22 -> 1912
A24: NUMERO DE ATENDIDOS Y ATENCIONES AL ESTABLECIMIENTO POR SEXO
A26: Periodo: Marzo - 2026
A27: Diresa/Red/M.Red/EE.SS: AREQUIPA/AREQUIPA CAYLLOMA/YANAHUARA/I-3 - 000001233 - CENTRO DE SALUD YANAHUARA
A30: 1. Según Etapa de Vida:
A32: GRUPO ETAREO | B32: ATENDIDOS | E32: ATENCIONES
B33: TOTAL | C33: F | D33: M | E33: TOTAL | F33: F | G33: M
A35: TOTAL GENERAL | B35: ='ENERO '!B36+FEBRERO!B36+MARZO!B35 -> 4713 | C35: ='ENERO '!C36+FEBRERO!C36+MARZO!C35 -> 3048 | D35: ='ENERO '!D36+FEBRERO!D36+MARZO!D35 -> 1665 | E35: ='ENERO '!E36+FEBRERO!E36+MARZO!E35 -> 15475 | F35: ='ENERO '!F36+FEBRERO!F36+MARZO!F35 -> 10304 | G35: ='ENERO '!G36+FEBRERO!G36+MARZO!G35 -> 5171
A36: < 01 mes | B36: ='ENERO '!B37+FEBRERO!B37+MARZO!B36 -> 60 | C36: ='ENERO '!C37+FEBRERO!C37+MARZO!C36 -> 28 | D36: ='ENERO '!D37+FEBRERO!D37+MARZO!D36 -> 32 | E36: ='ENERO '!E37+FEBRERO!E37+MARZO!E36 -> 79 | F36: ='ENERO '!F37+FEBRERO!F37+MARZO!F36 -> 34 | G36: ='ENERO '!G37+FEBRERO!G37+MARZO!G36 -> 45
A37: 01 a 11 meses | B37: ='ENERO '!B38+FEBRERO!B38+MARZO!B37 -> 95 | C37: ='ENERO '!C38+FEBRERO!C38+MARZO!C37 -> 50 | D37: ='ENERO '!D38+FEBRERO!D38+MARZO!D37 -> 45 | E37: ='ENERO '!E38+FEBRERO!E38+MARZO!E37 -> 366 | F37: ='ENERO '!F38+FEBRERO!F38+MARZO!F37 -> 202 | G37: ='ENERO '!G38+FEBRERO!G38+MARZO!G37 -> 164
A38: 01 a 04 años | B38: ='ENERO '!B39+FEBRERO!B39+MARZO!B38 -> 267 | C38: ='ENERO '!C39+FEBRERO!C39+MARZO!C38 -> 144 | D38: ='ENERO '!D39+FEBRERO!D39+MARZO!D38 -> 123 | E38: ='ENERO '!E39+FEBRERO!E39+MARZO!E38 -> 612 | F38: ='ENERO '!F39+FEBRERO!F39+MARZO!F38 -> 324 | G38: ='ENERO '!G39+FEBRERO!G39+MARZO!G38 -> 288
A39: 05 a 11 años | B39: ='ENERO '!B40+FEBRERO!B40+MARZO!B39 -> 201 | C39: ='ENERO '!C40+FEBRERO!C40+MARZO!C39 -> 81 | D39: ='ENERO '!D40+FEBRERO!D40+MARZO!D39 -> 120 | E39: ='ENERO '!E40+FEBRERO!E40+MARZO!E39 -> 494 | F39: ='ENERO '!F40+FEBRERO!F40+MARZO!F39 -> 200 | G39: ='ENERO '!G40+FEBRERO!G40+MARZO!G39 -> 294
A40: 12 a 17 años | B40: ='ENERO '!B41+FEBRERO!B41+MARZO!B40 -> 191 | C40: ='ENERO '!C41+FEBRERO!C41+MARZO!C40 -> 85 | D40: ='ENERO '!D41+FEBRERO!D41+MARZO!D40 -> 106 | E40: ='ENERO '!E41+FEBRERO!E41+MARZO!E40 -> 696 | F40: ='ENERO '!F41+FEBRERO!F41+MARZO!F40 -> 323 | G40: ='ENERO '!G41+FEBRERO!G41+MARZO!G40 -> 373
A41: 18 a 29 años | B41: ='ENERO '!B42+FEBRERO!B42+MARZO!B41 -> 1222 | C41: ='ENERO '!C42+FEBRERO!C42+MARZO!C41 -> 855 | D41: ='ENERO '!D42+FEBRERO!D42+MARZO!D41 -> 367 | E41: ='ENERO '!E42+FEBRERO!E42+MARZO!E41 -> 3532 | F41: ='ENERO '!F42+FEBRERO!F42+MARZO!F41 -> 2574 | G41: ='ENERO '!G42+FEBRERO!G42+MARZO!G41 -> 958
A42: 30 a 59 años | B42: ='ENERO '!B43+FEBRERO!B43+MARZO!B42 -> 1937 | C42: ='ENERO '!C43+FEBRERO!C43+MARZO!C42 -> 1364 | D42: ='ENERO '!D43+FEBRERO!D43+MARZO!D42 -> 573 | E42: ='ENERO '!E43+FEBRERO!E43+MARZO!E42 -> 7035 | F42: ='ENERO '!F43+FEBRERO!F43+MARZO!F42 -> 5237 | G42: ='ENERO '!G43+FEBRERO!G43+MARZO!G42 -> 1798
A43: 60 años a más | B43: ='ENERO '!B44+FEBRERO!B44+MARZO!B43 -> 740 | C43: ='ENERO '!C44+FEBRERO!C44+MARZO!C43 -> 441 | D43: ='ENERO '!D44+FEBRERO!D44+MARZO!D43 -> 299 | E43: ='ENERO '!E44+FEBRERO!E44+MARZO!E43 -> 2661 | F43: ='ENERO '!F44+FEBRERO!F44+MARZO!F43 -> 1410 | G43: ='ENERO '!G44+FEBRERO!G44+MARZO!G43 -> 1251
A45: NUMERO DE ATENDIDOS Y ATENCIONES AL ESTABLECIMIENTO POR SEXO
A47: Periodo: Marzo - 2026
A48: Diresa/Red/M.Red/EE.SS: AREQUIPA/AREQUIPA CAYLLOMA/YANAHUARA/I-2 - 000001283 - PUESTO DE SALUD PAMPA DE CAMARONES
A51: 1. Según Etapa de Vida:
A53: GRUPO ETAREO | B53: ATENDIDOS | E53: ATENCIONES
B54: TOTAL | C54: F | D54: M | E54: TOTAL | F54: F | G54: M
A56: TOTAL GENERAL | B56: ='ENERO '!B58+FEBRERO!B58+MARZO!B56 -> 2270 | C56: ='ENERO '!C58+FEBRERO!C58+MARZO!C56 -> 1518 | D56: ='ENERO '!D58+FEBRERO!D58+MARZO!D56 -> 752 | E56: ='ENERO '!E58+FEBRERO!E58+MARZO!E56 -> 4857 | F56: ='ENERO '!F58+FEBRERO!F58+MARZO!F56 -> 3322 | G56: ='ENERO '!G58+FEBRERO!G58+MARZO!G56 -> 1535
A57: < 01 mes | B57: ='ENERO '!B59+FEBRERO!B59+MARZO!B57 -> 7 | C57: ='ENERO '!C59+FEBRERO!C59+MARZO!C57 -> 2 | D57: ='ENERO '!D59+FEBRERO!D59+MARZO!D57 -> 5 | E57: ='ENERO '!E59+FEBRERO!E59+MARZO!E57 -> 41 | F57: ='ENERO '!F59+FEBRERO!F59+MARZO!F57 -> 14 | G57: ='ENERO '!G59+FEBRERO!G59+MARZO!G57 -> 27
A58: 01 a 11 meses | B58: ='ENERO '!B60+FEBRERO!B60+MARZO!B58 -> 74 | C58: ='ENERO '!C60+FEBRERO!C60+MARZO!C58 -> 34 | D58: ='ENERO '!D60+FEBRERO!D60+MARZO!D58 -> 40 | E58: ='ENERO '!E60+FEBRERO!E60+MARZO!E58 -> 281 | F58: ='ENERO '!F60+FEBRERO!F60+MARZO!F58 -> 132 | G58: ='ENERO '!G60+FEBRERO!G60+MARZO!G58 -> 149
A59: 01 a 04 años | B59: ='ENERO '!B61+FEBRERO!B61+MARZO!B59 -> 165 | C59: ='ENERO '!C61+FEBRERO!C61+MARZO!C59 -> 72 | D59: ='ENERO '!D61+FEBRERO!D61+MARZO!D59 -> 93 | E59: ='ENERO '!E61+FEBRERO!E61+MARZO!E59 -> 389 | F59: ='ENERO '!F61+FEBRERO!F61+MARZO!F59 -> 183 | G59: ='ENERO '!G61+FEBRERO!G61+MARZO!G59 -> 206
A60: 05 a 11 años | B60: ='ENERO '!B62+FEBRERO!B62+MARZO!B60 -> 213 | C60: ='ENERO '!C62+FEBRERO!C62+MARZO!C60 -> 94 | D60: ='ENERO '!D62+FEBRERO!D62+MARZO!D60 -> 119 | E60: ='ENERO '!E62+FEBRERO!E62+MARZO!E60 -> 327 | F60: ='ENERO '!F62+FEBRERO!F62+MARZO!F60 -> 147 | G60: ='ENERO '!G62+FEBRERO!G62+MARZO!G60 -> 180
A61: 12 a 17 años | B61: ='ENERO '!B63+FEBRERO!B63+MARZO!B61 -> 141 | C61: ='ENERO '!C63+FEBRERO!C63+MARZO!C61 -> 80 | D61: ='ENERO '!D63+FEBRERO!D63+MARZO!D61 -> 61 | E61: ='ENERO '!E63+FEBRERO!E63+MARZO!E61 -> 290 | F61: ='ENERO '!F63+FEBRERO!F63+MARZO!F61 -> 179 | G61: ='ENERO '!G63+FEBRERO!G63+MARZO!G61 -> 111
A62: 18 a 29 años | B62: ='ENERO '!B64+FEBRERO!B64+MARZO!B62 -> 502 | C62: ='ENERO '!C64+FEBRERO!C64+MARZO!C62 -> 383 | D62: ='ENERO '!D64+FEBRERO!D64+MARZO!D62 -> 119 | E62: ='ENERO '!E64+FEBRERO!E64+MARZO!E62 -> 1077 | F62: ='ENERO '!F64+FEBRERO!F64+MARZO!F62 -> 886 | G62: ='ENERO '!G64+FEBRERO!G64+MARZO!G62 -> 191
A63: 30 a 59 años | B63: ='ENERO '!B65+FEBRERO!B65+MARZO!B63 -> 889 | C63: ='ENERO '!C65+FEBRERO!C65+MARZO!C63 -> 688 | D63: ='ENERO '!D65+FEBRERO!D65+MARZO!D63 -> 201 | E63: ='ENERO '!E65+FEBRERO!E65+MARZO!E63 -> 1808 | F63: ='ENERO '!F65+FEBRERO!F65+MARZO!F63 -> 1425 | G63: ='ENERO '!G65+FEBRERO!G65+MARZO!G63 -> 383
A64: 60 años a más | B64: ='ENERO '!B66+FEBRERO!B66+MARZO!B64 -> 279 | C64: ='ENERO '!C66+FEBRERO!C66+MARZO!C64 -> 165 | D64: ='ENERO '!D66+FEBRERO!D66+MARZO!D64 -> 114 | E64: ='ENERO '!E66+FEBRERO!E66+MARZO!E64 -> 644 | F64: ='ENERO '!F66+FEBRERO!F66+MARZO!F64 -> 356 | G64: ='ENERO '!G66+FEBRERO!G66+MARZO!G64 -> 288
A67: NUMERO DE ATENDIDOS Y ATENCIONES AL ESTABLECIMIENTO POR SEXO
A69: Periodo: Marzo - 2026
A70: Diresa/Red/M.Red/EE.SS: AREQUIPA/AREQUIPA CAYLLOMA/YANAHUARA/I-2 - 000001282 - PUESTO DE SALUD SACHACA
A73: 1. Según Etapa de Vida:
A75: GRUPO ETAREO | B75: ATENDIDOS | E75: ATENCIONES
B76: TOTAL | C76: F | D76: M | E76: TOTAL | F76: F | G76: M
A78: TOTAL GENERAL | B78: ='ENERO '!B80+FEBRERO!B80+MARZO!B78 -> 2342 | C78: ='ENERO '!C80+FEBRERO!C80+MARZO!C78 -> 1407 | D78: ='ENERO '!D80+FEBRERO!D80+MARZO!D78 -> 935 | E78: ='ENERO '!E80+FEBRERO!E80+MARZO!E78 -> 6313 | F78: ='ENERO '!F80+FEBRERO!F80+MARZO!F78 -> 4144 | G78: ='ENERO '!G80+FEBRERO!G80+MARZO!G78 -> 2169
A79: < 01 mes | B79: ='ENERO '!B81+FEBRERO!B81+MARZO!B79 -> 16 | C79: ='ENERO '!C81+FEBRERO!C81+MARZO!C79 -> 4 | D79: ='ENERO '!D81+FEBRERO!D81+MARZO!D79 -> 12 | E79: ='ENERO '!E81+FEBRERO!E81+MARZO!E79 -> 39 | F79: ='ENERO '!F81+FEBRERO!F81+MARZO!F79 -> 8 | G79: ='ENERO '!G81+FEBRERO!G81+MARZO!G79 -> 31
A80: 01 a 11 meses | B80: ='ENERO '!B82+FEBRERO!B82+MARZO!B80 -> 58 | C80: ='ENERO '!C82+FEBRERO!C82+MARZO!C80 -> 31 | D80: ='ENERO '!D82+FEBRERO!D82+MARZO!D80 -> 27 | E80: ='ENERO '!E82+FEBRERO!E82+MARZO!E80 -> 317 | F80: ='ENERO '!F82+FEBRERO!F82+MARZO!F80 -> 151 | G80: ='ENERO '!G82+FEBRERO!G82+MARZO!G80 -> 166
A81: 01 a 04 años | B81: ='ENERO '!B83+FEBRERO!B83+MARZO!B81 -> 215 | C81: ='ENERO '!C83+FEBRERO!C83+MARZO!C81 -> 102 | D81: ='ENERO '!D83+FEBRERO!D83+MARZO!D81 -> 113 | E81: ='ENERO '!E83+FEBRERO!E83+MARZO!E81 -> 587 | F81: ='ENERO '!F83+FEBRERO!F83+MARZO!F81 -> 267 | G81: ='ENERO '!G83+FEBRERO!G83+MARZO!G81 -> 320
A82: 05 a 11 años | B82: ='ENERO '!B84+FEBRERO!B84+MARZO!B82 -> 256 | C82: ='ENERO '!C84+FEBRERO!C84+MARZO!C82 -> 116 | D82: ='ENERO '!D84+FEBRERO!D84+MARZO!D82 -> 140 | E82: ='ENERO '!E84+FEBRERO!E84+MARZO!E82 -> 559 | F82: ='ENERO '!F84+FEBRERO!F84+MARZO!F82 -> 218 | G82: ='ENERO '!G84+FEBRERO!G84+MARZO!G82 -> 341
A83: 12 a 17 años | B83: ='ENERO '!B85+FEBRERO!B85+MARZO!B83 -> 123 | C83: ='ENERO '!C85+FEBRERO!C85+MARZO!C83 -> 63 | D83: ='ENERO '!D85+FEBRERO!D85+MARZO!D83 -> 60 | E83: ='ENERO '!E85+FEBRERO!E85+MARZO!E83 -> 357 | F83: ='ENERO '!F85+FEBRERO!F85+MARZO!F83 -> 222 | G83: ='ENERO '!G85+FEBRERO!G85+MARZO!G83 -> 135
A84: 18 a 29 años | B84: ='ENERO '!B86+FEBRERO!B86+MARZO!B84 -> 422 | C84: ='ENERO '!C86+FEBRERO!C86+MARZO!C84 -> 291 | D84: ='ENERO '!D86+FEBRERO!D86+MARZO!D84 -> 131 | E84: ='ENERO '!E86+FEBRERO!E86+MARZO!E84 -> 1160 | F84: ='ENERO '!F86+FEBRERO!F86+MARZO!F84 -> 883 | G84: ='ENERO '!G86+FEBRERO!G86+MARZO!G84 -> 277
A85: 30 a 59 años | B85: ='ENERO '!B87+FEBRERO!B87+MARZO!B85 -> 977 | C85: ='ENERO '!C87+FEBRERO!C87+MARZO!C85 -> 661 | D85: ='ENERO '!D87+FEBRERO!D87+MARZO!D85 -> 316 | E85: ='ENERO '!E87+FEBRERO!E87+MARZO!E85 -> 2540 | F85: ='ENERO '!F87+FEBRERO!F87+MARZO!F85 -> 2014 | G85: ='ENERO '!G87+FEBRERO!G87+MARZO!G85 -> 526
A86: 60 años a más | B86: ='ENERO '!B88+FEBRERO!B88+MARZO!B86 -> 275 | C86: ='ENERO '!C88+FEBRERO!C88+MARZO!C86 -> 139 | D86: ='ENERO '!D88+FEBRERO!D88+MARZO!D86 -> 136 | E86: ='ENERO '!E88+FEBRERO!E88+MARZO!E86 -> 754 | F86: ='ENERO '!F88+FEBRERO!F88+MARZO!F86 -> 381 | G86: ='ENERO '!G88+FEBRERO!G88+MARZO!G86 -> 373
